BEGIN:VCALENDAR
VERSION:2.0
PRODID:-//Bashir Institute Of Health Sciences - ECPv6.15.14//NONSGML v1.0//EN
CALSCALE:GREGORIAN
METHOD:PUBLISH
X-ORIGINAL-URL:https://bashir.edu.pk
X-WR-CALDESC:Events for Bashir Institute Of Health Sciences
REFRESH-INTERVAL;VALUE=DURATION:PT1H
X-Robots-Tag:noindex
X-PUBLISHED-TTL:PT1H
BEGIN:VTIMEZONE
TZID:UTC
BEGIN:STANDARD
TZOFFSETFROM:+0000
TZOFFSETTO:+0000
TZNAME:UTC
DTSTART:20240101T000000
END:STANDARD
END:VTIMEZONE
BEGIN:VEVENT
DTSTART;TZID=UTC:20250829T103000
DTEND;TZID=UTC:20250829T133000
DTSTAMP:20260420T075153
CREATED:20250916T194032Z
LAST-MODIFIED:20250917T060523Z
UID:8458-1756463400-1756474200@bashir.edu.pk
SUMMARY:Fire & Safety Awareness Session
DESCRIPTION:Fire & Safety Awareness Session Successfully Conducted at BIHS & BCDI! ⁣\n⁣\nA 𝐅𝐢𝐫𝐞 𝐚𝐧𝐝 𝐒𝐚𝐟𝐞𝐭𝐲 𝐀𝐰𝐚𝐫𝐞𝐧𝐞𝐬𝐬 𝐒𝐞𝐬𝐬𝐢𝐨𝐧 was successfully conducted on 𝐅𝐫𝐢𝐝𝐚𝐲\, 𝟐𝟗𝐭𝐡 𝐀𝐮𝐠𝐮𝐬𝐭 𝟐𝟎𝟐𝟓 at 𝐁𝐚𝐬𝐡𝐢𝐫 𝐈𝐧𝐬𝐭𝐢𝐭𝐮𝐭𝐞 𝐨𝐟 𝐇𝐞𝐚𝐥𝐭𝐡 𝐒𝐜𝐢𝐞𝐧𝐜𝐞𝐬 (𝐁𝐈𝐇𝐒) and 𝐁𝐚𝐬𝐡𝐢𝐫 𝐂𝐨𝐥𝐥𝐞𝐠𝐞 𝐨𝐟 𝐃𝐞𝐧𝐭𝐢𝐬𝐭𝐫𝐲 𝐈𝐬𝐥𝐚𝐦𝐚𝐛𝐚𝐝 (𝐁𝐂𝐃𝐈) in collaboration with 𝐑𝐞𝐬𝐜𝐮𝐞 𝟏𝟏𝟐𝟐.⁣\n⁣ \nWatch video : \nhttps://www.facebook.com/share/r/1EfvgJdvMp/ \nWe extend our heartfelt gratitude to 𝐑𝐞𝐬𝐜𝐮𝐞 𝟏𝟏𝟐𝟐 for their exceptional support\, expertise\, and dedication to promoting safety awareness in our community. ⁣\n⁣ \n#bihs #FireSafety #Rescue1122 #BIHSSafetyFirst #EmergencyPreparedness #BCDI
URL:https://bashir.edu.pk/event/fire-safety-awareness-session/
CATEGORIES:BCD Events
ATTACH;FMTTYPE=image/jpeg:https://bashir.edu.pk/wp-content/uploads/2025/09/1122.jpg
END:VEVENT
BEGIN:VEVENT
DTSTART;TZID=UTC:20250619T110000
DTEND;TZID=UTC:20250619T130000
DTSTAMP:20260420T075153
CREATED:20250625T052723Z
LAST-MODIFIED:20250625T053244Z
UID:8374-1750330800-1750338000@bashir.edu.pk
SUMMARY:MoU between BIHS and Cleft Care Foundation
DESCRIPTION:Bashir Institute of Health Sciences Islamabad and Cleft Care Foundation have signed an MoU to collaborate on patient referral\, cleft awareness\, and student volunteer initiatives.\n\n\nThis partnership marks a shared commitment to early diagnosis\, accessible care\, and community-driven health outreach. Together\, we aim to transform lives — one smile at a time.\n\n\n\n In Attendance:\n• Prof. Mohtada Hassan – Principal\, BCDI\n• Prof. Umair Farrukh Raja – Vice Principal\, BCDI\n• Prof. Faryal Jahan – Deputy Dean\, BIHS\n• Dr. Amjad Hussain\n• Dr. Falak Naz – MS\, General Hospital\n• Prof. Eruj Shuja\n• Prof. Azhar Bangash\n\n\n\n Representing Cleft Care Foundation:\n• Dr. Afeef Umar Zia – Executive Director\n• Dr. Huma Khan – Patient Care & Welfare Manager\n• Dr. Esha Zakria – Academics & Training Manager\n• CCF Program & Outreach Team\n\n\n       \n\n\nSupport a Smile. Heal a Future.\n\n\n\n#BIHS #CleftCare #MoUSigning #CCFPakistan #TogetherForSmiles #PatientCare #DentalVolunteers #SocialImpact #HealthcarePartnership #CleftAwareness #Islamabad #PakistanHealthcare
URL:https://bashir.edu.pk/event/mou-between-bihs-and-cleft-care-foundation/
CATEGORIES:BCD Events
ATTACH;FMTTYPE=image/jpeg:https://bashir.edu.pk/wp-content/uploads/2025/06/IMG-20250620-WA0014-scaled.jpg
END:VEVENT
BEGIN:VEVENT
DTSTART;TZID=UTC:20250224T100000
DTEND;TZID=UTC:20250224T140000
DTSTAMP:20260420T075153
CREATED:20250421T194741Z
LAST-MODIFIED:20250421T194741Z
UID:7974-1740391200-1740405600@bashir.edu.pk
SUMMARY:Basic life support workshop
DESCRIPTION:Basic life support workshop at Bashir College of Dentistry  \n 
URL:https://bashir.edu.pk/event/basic-life-support-workshop/
CATEGORIES:BCD Events
ATTACH;FMTTYPE=image/jpeg:https://bashir.edu.pk/wp-content/uploads/2025/04/IMG-20250417-WA0016.jpg
END:VEVENT
BEGIN:VEVENT
DTSTART;TZID=UTC:20250217T100000
DTEND;TZID=UTC:20250217T123000
DTSTAMP:20260420T075153
CREATED:20250530T204939Z
LAST-MODIFIED:20250530T204939Z
UID:8348-1739786400-1739795400@bashir.edu.pk
SUMMARY:Lecture on Fire Safety & Mock Fire Drill
DESCRIPTION:Bashir College of Dentistry successfully conducted our Fire Safety Awareness Lecture and Mock Drill on 17th February 2025\, equipping our campus community with crucial life-saving knowledge and practical skills! \nHighlights: \n\n\nFire prevention measures \n\n\nEmergency response protocols \n\n\nProper use of safety equipment
URL:https://bashir.edu.pk/event/lecture-on-fire-safety-mock-fire-drill/
CATEGORIES:BCD Events
ATTACH;FMTTYPE=image/jpeg:https://bashir.edu.pk/wp-content/uploads/2025/05/WhatsApp-Image-2025-05-26-at-09.52.22_ed5129a7.jpg
END:VEVENT
END:VCALENDAR